BEGIN:VCALENDAR
VERSION:2.0
PRODID:-//www.sjeswp.org//NONSGML kigkonsult.se iCalcreator 2.30.10//
CALSCALE:GREGORIAN
METHOD:PUBLISH
UID:4eccd071-d638-4821-95b4-90d14ee8307b
X-WR-CALDESC:
X-WR-RELCALID:bc3283d8e124f0eecb05f04bca7d69c1
X-WR-TIMEZONE:America/Chicago
BEGIN:VTIMEZONE
TZID:America/Chicago
BEGIN:STANDARD
TZNAME:CST
DTSTART:20231105T020000
TZOFFSETFROM:-0500
TZOFFSETTO:-0600
RDATE:20241103T020000
RDATE:20251102T020000
END:STANDARD
BEGIN:DAYLIGHT
TZNAME:CDT
DTSTART:20240310T020000
TZOFFSETFROM:-0600
TZOFFSETTO:-0500
RDATE:20250309T020000
END:DAYLIGHT
END:VTIMEZONE
BEGIN:VEVENT
UID:92f0f1d2-8a48-4f18-b2cc-380bbc89411d
DTSTAMP:20260426T042420Z
DESCRIPTION:
DTSTART;TZID=America/Chicago:20240725T153000
DTEND;TZID=America/Chicago:20240725T163000
LOCATION:
SUMMARY:Coffe & Ice Cream
END:VEVENT
END:VCALENDAR
