BEGIN:VCALENDAR
VERSION:2.0
PRODID:-//www.sjeswp.org//NONSGML kigkonsult.se iCalcreator 2.30.10//
CALSCALE:GREGORIAN
METHOD:PUBLISH
UID:a7e9d675-b447-4dd7-afb1-c8b477514982
X-WR-CALDESC:
X-WR-RELCALID:261e409d7829e6bf50c8af8e9cee311c
X-WR-TIMEZONE:America/Chicago
BEGIN:VTIMEZONE
TZID:America/Chicago
BEGIN:STANDARD
TZNAME:CST
DTSTART:20231105T020000
TZOFFSETFROM:-0500
TZOFFSETTO:-0600
RDATE:20241103T020000
RDATE:20251102T020000
END:STANDARD
BEGIN:DAYLIGHT
TZNAME:CDT
DTSTART:20240310T020000
TZOFFSETFROM:-0600
TZOFFSETTO:-0500
RDATE:20250309T020000
END:DAYLIGHT
END:VTIMEZONE
BEGIN:VEVENT
UID:913bb371-2482-48ab-827f-419eea580adb
DTSTAMP:20260419T184054Z
DESCRIPTION:
DTSTART;TZID=America/Chicago:20240711T153000
DTEND;TZID=America/Chicago:20240711T163000
LOCATION:
SUMMARY:Coffe & Ice Cream
END:VEVENT
END:VCALENDAR
