BEGIN:VCALENDAR
VERSION:2.0
PRODID:-//www.sjeswp.org//NONSGML kigkonsult.se iCalcreator 2.30.10//
CALSCALE:GREGORIAN
METHOD:PUBLISH
UID:bf00195d-39ef-4f69-8841-706266261c4c
X-WR-CALDESC:
X-WR-RELCALID:1f8b118d861ee9a5c37831a8389f0feb
X-WR-TIMEZONE:America/Chicago
BEGIN:VTIMEZONE
TZID:America/Chicago
BEGIN:STANDARD
TZNAME:CST
DTSTART:20231105T020000
TZOFFSETFROM:-0500
TZOFFSETTO:-0600
RDATE:20241103T020000
RDATE:20251102T020000
END:STANDARD
BEGIN:DAYLIGHT
TZNAME:CDT
DTSTART:20240310T020000
TZOFFSETFROM:-0600
TZOFFSETTO:-0500
RDATE:20250309T020000
END:DAYLIGHT
END:VTIMEZONE
BEGIN:VEVENT
UID:e4b45bcb-5b9e-480f-b7b8-767c1a7ff6a5
DTSTAMP:20260420T092736Z
DESCRIPTION:
DTSTART;TZID=America/Chicago:20240709T143000
DTEND;TZID=America/Chicago:20240709T153000
LOCATION:
SUMMARY:Kings on Corner
END:VEVENT
END:VCALENDAR
