BEGIN:VCALENDAR
VERSION:2.0
PRODID:-//www.sjeswp.org//NONSGML kigkonsult.se iCalcreator 2.30.10//
CALSCALE:GREGORIAN
METHOD:PUBLISH
UID:566eea22-de48-403c-ac00-32dfed31e6ce
X-WR-CALDESC:
X-WR-RELCALID:1adc19a8058cf6583256ee8f45655390
X-WR-TIMEZONE:America/Chicago
BEGIN:VTIMEZONE
TZID:America/Chicago
BEGIN:STANDARD
TZNAME:CST
DTSTART:20231105T020000
TZOFFSETFROM:-0500
TZOFFSETTO:-0600
RDATE:20241103T020000
RDATE:20251102T020000
END:STANDARD
BEGIN:DAYLIGHT
TZNAME:CDT
DTSTART:20240310T020000
TZOFFSETFROM:-0600
TZOFFSETTO:-0500
RDATE:20250309T020000
END:DAYLIGHT
END:VTIMEZONE
BEGIN:VEVENT
UID:94f456be-9a9f-48fb-81b3-a3b789b11521
DTSTAMP:20260423T070358Z
DESCRIPTION:
DTSTART;TZID=America/Chicago:20240708T153000
DTEND;TZID=America/Chicago:20240708T163000
LOCATION:
SUMMARY:Coffe & Ice Cream
END:VEVENT
END:VCALENDAR
