BEGIN:VCALENDAR
VERSION:2.0
PRODID:-//www.sjeswp.org//NONSGML kigkonsult.se iCalcreator 2.30.10//
CALSCALE:GREGORIAN
METHOD:PUBLISH
UID:4e056c79-6ced-4c3d-975b-57b61cffcf5a
X-WR-CALDESC:
X-WR-RELCALID:283a3621dd7ba08fde65f11ec57dc7ae
X-WR-TIMEZONE:America/Chicago
BEGIN:VTIMEZONE
TZID:America/Chicago
BEGIN:STANDARD
TZNAME:CST
DTSTART:20231105T020000
TZOFFSETFROM:-0500
TZOFFSETTO:-0600
RDATE:20241103T020000
RDATE:20251102T020000
END:STANDARD
BEGIN:DAYLIGHT
TZNAME:CDT
DTSTART:20240310T020000
TZOFFSETFROM:-0600
TZOFFSETTO:-0500
RDATE:20250309T020000
END:DAYLIGHT
END:VTIMEZONE
BEGIN:VEVENT
UID:24eae853-ab12-444c-a21a-175d00a7627c
DTSTAMP:20260421T141041Z
DESCRIPTION:
DTSTART;TZID=America/Chicago:20240704T143000
DTEND;TZID=America/Chicago:20240704T153000
LOCATION:
SUMMARY:Card Bingo
END:VEVENT
END:VCALENDAR
