BEGIN:VCALENDAR
VERSION:2.0
PRODID:-//www.sjeswp.org//NONSGML kigkonsult.se iCalcreator 2.30.10//
CALSCALE:GREGORIAN
METHOD:PUBLISH
UID:97f0c04f-7540-459f-8367-02b311a3da1d
X-WR-CALDESC:
X-WR-RELCALID:62501ce321128f75e6b531cf330cfd13
X-WR-TIMEZONE:America/Chicago
BEGIN:VTIMEZONE
TZID:America/Chicago
BEGIN:STANDARD
TZNAME:CST
DTSTART:20231105T020000
TZOFFSETFROM:-0500
TZOFFSETTO:-0600
RDATE:20241103T020000
RDATE:20251102T020000
END:STANDARD
BEGIN:DAYLIGHT
TZNAME:CDT
DTSTART:20240310T020000
TZOFFSETFROM:-0600
TZOFFSETTO:-0500
RDATE:20250309T020000
END:DAYLIGHT
END:VTIMEZONE
BEGIN:VEVENT
UID:44000d40-6016-4085-b856-7a2757ada3f2
DTSTAMP:20260420T092418Z
DESCRIPTION:
DTSTART;TZID=America/Chicago:20240614T110000
DTEND;TZID=America/Chicago:20240614T120000
LOCATION:
SUMMARY:Exercises/Kick Ball
END:VEVENT
END:VCALENDAR
